BEGIN:VCALENDAR
VERSION:2.0
PRODID:-//ChamberMaster//Event Calendar 2.0//EN
METHOD:PUBLISH
X-PUBLISHED-TTL:P3D
REFRESH-INTERVAL:P3D
CALSCALE:GREGORIAN
BEGIN:VEVENT
DTSTART:20230602T210000Z
DTEND:20230603T000000Z
X-MICROSOFT-CDO-ALLDAYEVENT:FALSE
SUMMARY:End of the School Year Sidewalk Social
DESCRIPTION:AMOA will celebrate the close of the school year with children's crafts and games\, popsicles\, and refreshments. All of these activities will be free and open to the public. Make sure to visit each of AMOA's A.R.T.S (A Reason to Shop) participating vendors as well. Grab the perfect gift or something new and unique for yourself!
X-ALT-DESC;FMTTYPE=text/html:AMOA will celebrate the close of the school year with children&rsquo\;s crafts and games\, popsicles\, and refreshments. All of these activities will be free and open to the public. Make sure to visit each of AMOA&rsquo\;s A.R.T.S (A Reason to Shop) participating vendors as well. Grab the perfect gift or something new and unique for yourself!
LOCATION:Downtown Anderson
UID:e.1371.12711
SEQUENCE:3
DTSTAMP:20260423T022348Z
URL:http://business.madisoncountyalliance.org/events/details/end-of-the-school-year-sidewalk-social-12711
END:VEVENT

END:VCALENDAR
