BEGIN:VCALENDAR
VERSION:2.0
PRODID:-//ChamberMaster//Event Calendar 2.0//EN
METHOD:PUBLISH
X-PUBLISHED-TTL:P3D
REFRESH-INTERVAL:P3D
CALSCALE:GREGORIAN
BEGIN:VEVENT
DTSTART:20230414T153000Z
DTEND:20230414T170000Z
X-MICROSOFT-CDO-ALLDAYEVENT:FALSE
SUMMARY:FAB April 14 2023
DESCRIPTION:SOLD OUT\n\n\n\nFAB\n\nFemales Active in Business\n\nApril 14\, 2023\n\nGuest Speaker:  JB Shelton\n\nNEW LOCATION:  Anderson Museum of Art\n\n32 W. 10th Street\, Anderson\n\n\n\n\n\n\n Make plans to attend and hear some of the great things happening and how you can get involved.\n\n \nRegister today and bring a friend!\n\n\n\nYour ticket price includes lunch for one and lots of networking!\n\n\n\nA big thank you to our 2023 Sponsors!\n\nPresenting Sponsor:  The Real Estate Pros\n\nSilver Sponsor:  JAM Printing\n\nSilver Sponsor:  Awaken Cosmetics & Aesthetic Wellness Spa and Detour Salon & Style\n\nSilver Sponsor: Harrah's Hoosier Park\n\nSilver Sponsor:  Women's Wellness\n\nSilver Sponsor:  F.C. Tucker / Thompson\n\nBronze Sponsor:  Lucky Dog Promo\n\nBronze Sponsor:  Lookworthy Face & Body Retreat
X-ALT-DESC;FMTTYPE=text/html:<div style="text-align: center\;"><span style="color:#FF0000\;"><span style="font-size:26px\;">SOLD OUT</span></span><br />\n<br />\nFAB<br />\nFemales Active in Business<br />\nApril 14\, 2023<br />\nGuest Speaker:&nbsp\; JB Shelton<br />\nNEW LOCATION:&nbsp\; Anderson Museum of Art<br />\n32 W. 10th Street\, Anderson</div>\n<br />\n<br />\n<br />\n<span background-color:="" font-size:="" style="color: rgb(51\, 51\, 51)\; font-family: sans-serif\, Arial\, Verdana\, " trebuchet="">&nbsp\;Make plans to attend and hear some of the great things happening and how you can get involved.</span>\n\n<div>&nbsp\;</div>\nRegister today and bring a friend!<br />\n<br />\nYour ticket price includes lunch for one and lots of networking!<br />\n<br />\nA big thank you to our 2023 Sponsors!<br />\nPresenting Sponsor:&nbsp\; The Real Estate Pros<br />\nSilver Sponsor:&nbsp\; JAM Printing<br />\nSilver Sponsor:&nbsp\; Awaken Cosmetics &amp\; Aesthetic Wellness Spa and Detour Salon &amp\; Style<br />\nSilver Sponsor: Harrah&#39\;s Hoosier Park<br />\nSilver Sponsor:&nbsp\; Women&#39\;s Wellness<br />\nSilver Sponsor:&nbsp\; F.C. Tucker / Thompson<br />\nBronze Sponsor:&nbsp\; Lucky Dog Promo<br />\nBronze Sponsor:&nbsp\; Lookworthy Face &amp\; Body Retreat<br />\n&nbsp\;
LOCATION:Anderson Museum of Art 32 W. 10th Street Anderson
UID:e.1371.12485
SEQUENCE:3
DTSTAMP:20260423T051346Z
URL:http://business.madisoncountyalliance.org/events/details/fab-april-14-2023-12485
END:VEVENT

END:VCALENDAR
