BEGIN:VCALENDAR
VERSION:2.0
PRODID:-//ChamberMaster//Event Calendar 2.0//EN
METHOD:PUBLISH
X-PUBLISHED-TTL:P3D
REFRESH-INTERVAL:P3D
CALSCALE:GREGORIAN
BEGIN:VEVENT
DTSTART:20230811T153000Z
DTEND:20230811T170000Z
X-MICROSOFT-CDO-ALLDAYEVENT:FALSE
SUMMARY:FAB August 11\, 2023
DESCRIPTION:Registration closes 8/9/23 at 2:00 pm\n\nFAB\n\nFemales Active in Business\n\nAugust 11\, 2023\n\nAnderson Museum of Art\n\n32 W. 10th Street\, Anderson\n\n\n\n\n\n\n Make plans to attend and hear some of the great things happening and how you can get involved.\n\n \nRegister today and bring a friend!\n\n\n\nYour ticket price includes lunch for one and lots of networking!\n\n\n\nA big thank you to our 2023 Sponsors!\n\nPresenting Sponsor:  The Real Estate Pros\n\nSilver Sponsor:  JAM Printing\n\nSilver Sponsor:  Awaken Cosmetics & Aesthetic Wellness Spa and Detour Salon & Style\n\nSilver Sponsor: Harrah's Hoosier Park\n\nSilver Sponsor:  Women's Wellness\n\nBronze Sponsor:  Lucky Dog Promo\n\nBronze Sponsor:  Lookworthy Face & Body Retreat
X-ALT-DESC;FMTTYPE=text/html:<div style="text-align: center\;"><br />\nRegistration closes 8/9/23 at 2:00 pm<br />\nFAB<br />\nFemales Active in Business<br />\nAugust 11\, 2023<br />\nAnderson Museum of Art<br />\n32 W. 10th Street\, Anderson</div>\n<br />\n<br />\n<br />\n<span background-color:="" font-size:="" style="color: rgb(51\, 51\, 51)\; font-family: sans-serif\, Arial\, Verdana\, " trebuchet="">&nbsp\;Make plans to attend and hear some of the great things happening and how you can get involved.</span>\n\n<div>&nbsp\;</div>\nRegister today and bring a friend!<br />\n<br />\nYour ticket price includes lunch for one and lots of networking!<br />\n<br />\nA big thank you to our 2023 Sponsors!<br />\nPresenting Sponsor:&nbsp\; The Real Estate Pros<br />\nSilver Sponsor:&nbsp\; JAM Printing<br />\nSilver Sponsor:&nbsp\; Awaken Cosmetics &amp\; Aesthetic Wellness Spa and Detour Salon &amp\; Style<br />\nSilver Sponsor: Harrah&#39\;s Hoosier Park<br />\nSilver Sponsor:&nbsp\; Women&#39\;s Wellness<br />\nBronze Sponsor:&nbsp\; Lucky Dog Promo<br />\nBronze Sponsor:&nbsp\; Lookworthy Face &amp\; Body Retreat<br />\n&nbsp\;
LOCATION:Anderson Museum of Art 32 W. 10th Street Anderson
UID:e.1371.18326
SEQUENCE:3
DTSTAMP:20260422T232647Z
URL:http://business.madisoncountyalliance.org/events/details/fab-august-11-2023-18326
END:VEVENT

END:VCALENDAR
