BEGIN:VCALENDAR
VERSION:2.0
PRODID:-//ChamberMaster//Event Calendar 2.0//EN
METHOD:PUBLISH
X-PUBLISHED-TTL:P3D
REFRESH-INTERVAL:P3D
CALSCALE:GREGORIAN
BEGIN:VEVENT
DTSTART;VALUE=DATE:20231208
DTEND;VALUE=DATE:20231209
TRANSP:TRANSPARENT
X-MICROSOFT-CDO-ALLDAYEVENT:TRUE
SUMMARY:FAB Females Active in Business
DESCRIPTION:***SOLD OUT***\n\nFAB Females Active in Business\n\nDecember 8\, 2023\n\nAnderson Museum of Art\n\n11:30 a.m.\n\n\n\nCome shop from our many vendors that will be there with their holiday gifts!\n\n\n\nAccepting only retail vendors selling gift items
X-ALT-DESC;FMTTYPE=text/html:<span style="font-size:20px\;"><span style="font-family:verdana\;"><strong><span style="color:#FF0000\;">***SOLD OUT***</span><br />\nFAB Females Active in Business<br />\nDecember 8\, 2023<br />\nAnderson Museum of Art<br />\n11:30 a.m.<br />\n<br />\nCome shop from our many vendors that will be there with their holiday gifts!</strong></span></span><br />\n<br />\n<span style="font-size:14px\;"><u><em>Accepting only retail vendors selling gift items</em></u></span><br />\n&nbsp\;
LOCATION:Anderson Museum of Art
UID:e.1371.12486
SEQUENCE:3
DTSTAMP:20260422T185905Z
URL:http://business.madisoncountyalliance.org/events/details/fab-females-active-in-business-12486
END:VEVENT

END:VCALENDAR
