BEGIN:VCALENDAR
VERSION:2.0
PRODID:-//ChamberMaster//Event Calendar 2.0//EN
METHOD:PUBLISH
X-PUBLISHED-TTL:P3D
REFRESH-INTERVAL:P3D
CALSCALE:GREGORIAN
BEGIN:VEVENT
DTSTART:20240209T163000Z
DTEND:20240209T180000Z
X-MICROSOFT-CDO-ALLDAYEVENT:FALSE
SUMMARY:FAB Females Active in Business
DESCRIPTION:SOLD OUT\n\nFAB\n\nFemales Active in Business\n\nFebruary 9\, 2024\n\nAnderson Museum of Art\n\n\n\nGuest Speaker:  Allison Melangton\n\nVice President\, Penske Entertainment\n\n\n\n\n\n \n\n\n\n\n\n\n Make plans to attend and hear some of the great things happening and how you can get involved.\n\n \nRegister today and bring a friend!\n\n\n\nYour ticket price includes lunch for one and lots of networking!\n\n\n\nA big thank you to our 2024 Sponsors!\n\nPresenting Sponsor:  The Real Estate Pros\n\nGold Sponsor:  Women's Wellness\n\nSilver Sponsor:  JAM Printing\n\nSilver Sponsor:  Awaken Cosmetics & Aesthetic Wellness Spa and Detour Salon & Style\n\nSilver Sponsor: Harrah's Hoosier Park\n\nSilver Sponsor:  Lookworthy Face & Body Retreat\n\nBronze Sponsor:  Lucky Dog Promo
X-ALT-DESC;FMTTYPE=text/html:<div style="text-align: center\;"><br />\n<span style="font-size:36px\;"><span style="color:#FF0000\;">SOLD OUT</span></span><br />\nFAB<br />\nFemales Active in Business<br />\nFebruary 9\, 2024<br />\nAnderson Museum of Art<br />\n<br />\nGuest Speaker:&nbsp\; Allison Melangton<br />\nVice President\, Penske Entertainment<br />\n<br />\n<br />\n&nbsp\;</div>\n<br />\n<br />\n<br />\n<span background-color:="" font-size:="" style="color: rgb(51\, 51\, 51)\; font-family: sans-serif\, Arial\, Verdana\, " trebuchet="">&nbsp\;Make plans to attend and hear some of the great things happening and how you can get involved.</span>\n\n<div>&nbsp\;</div>\nRegister today and bring a friend!<br />\n<br />\nYour ticket price includes lunch for one and lots of networking!<br />\n<br />\nA big thank you to our 2024 Sponsors!<br />\nPresenting Sponsor:&nbsp\; The Real Estate Pros<br />\nGold Sponsor:&nbsp\; Women&#39\;s Wellness<br />\nSilver Sponsor:&nbsp\; JAM Printing<br />\nSilver Sponsor:&nbsp\; Awaken Cosmetics &amp\; Aesthetic Wellness Spa and Detour Salon &amp\; Style<br />\nSilver Sponsor: Harrah&#39\;s Hoosier Park<br />\nSilver Sponsor:&nbsp\; Lookworthy Face &amp\; Body Retreat<br />\nBronze Sponsor:&nbsp\; Lucky Dog Promo<br />\n<br />\n&nbsp\;
LOCATION:Anderson Museum of Art 32 W 10th St. Anderson\, IN
UID:e.1371.18841
SEQUENCE:3
DTSTAMP:20260422T144802Z
URL:http://business.madisoncountyalliance.org/events/details/fab-females-active-in-business-18841
END:VEVENT

END:VCALENDAR
