BEGIN:VCALENDAR
VERSION:2.0
PRODID:-//ChamberMaster//Event Calendar 2.0//EN
METHOD:PUBLISH
X-PUBLISHED-TTL:P3D
REFRESH-INTERVAL:P3D
CALSCALE:GREGORIAN
BEGIN:VEVENT
DTSTART:20240621T153000Z
DTEND:20240621T170000Z
X-MICROSOFT-CDO-ALLDAYEVENT:FALSE
SUMMARY:FAB Females Active in Business
DESCRIPTION:SOLD OUT\n\n\n\nFAB\n\nFemales Active in Business\n\nJune 21\, 2024\n\nAnderson Museum of Art\n\n\n\nGuest Speaker:  Melissa Matthews\, DNP\, APRN\, WHNP-BC\n\nWomen's Wellness Clinic\n\n\n\n \n\n\n\n\n\n\n Make plans to attend and hear some of the great things happening and how you can get involved.\n\n \nRegister today and bring a friend!\n\n\n\nYour ticket price includes lunch for one and lots of networking!\n\n\n\nA big thank you to our 2023 Sponsors!\n\nPresenting Sponsor:  The Real Estate Pros\n\nGold Sponsor:  Women's Wellness Clinic\n\nSilver Sponsor:  JAM Printing\n\nSilver Sponsor:  Awaken Cosmetics & Aesthetic Wellness Spa and Detour Salon & Style\n\nSilver Sponsor: Harrah's Hoosier Park\n\nSilver Sponsor:  Lookworthy Face & Body Retreat\n\nBronze Sponsor:  Lucky Dog Promo
X-ALT-DESC;FMTTYPE=text/html:<div style="text-align: center\;"><span style="font-size:26px\;"><span style="color:#FF0000\;"><strong>SOLD OUT</strong></span></span><br />\n<br />\nFAB<br />\nFemales Active in Business<br />\nJune 21\, 2024<br />\nAnderson Museum of Art<br />\n<br />\nGuest Speaker:&nbsp\; Melissa Matthews\,&nbsp\;<span style="color: rgb(34\, 34\, 34)\; font-family: Arial\, Helvetica\, sans-serif\; font-size: small\; background-color: rgb(255\, 255\, 255)\;">DNP\, APRN\, WHNP-BC</span><br />\nWomen&#39\;s Wellness Clinic<br />\n<br />\n&nbsp\;</div>\n<br />\n<br />\n<br />\n<span background-color:="" font-size:="" style="color: rgb(51\, 51\, 51)\; font-family: sans-serif\, Arial\, Verdana\, " trebuchet="">&nbsp\;Make plans to attend and hear some of the great things happening and how you can get involved.</span>\n\n<div>&nbsp\;</div>\nRegister today and bring a friend!<br />\n<br />\nYour ticket price includes lunch for one and lots of networking!<br />\n<br />\nA big thank you to our 2023 Sponsors!<br />\nPresenting Sponsor:&nbsp\; The Real Estate Pros<br />\nGold Sponsor:&nbsp\; Women&#39\;s Wellness Clinic<br />\nSilver Sponsor:&nbsp\; JAM Printing<br />\nSilver Sponsor:&nbsp\; Awaken Cosmetics &amp\; Aesthetic Wellness Spa and Detour Salon &amp\; Style<br />\nSilver Sponsor: Harrah&#39\;s Hoosier Park<br />\nSilver Sponsor:&nbsp\; Lookworthy Face &amp\; Body Retreat<br />\nBronze Sponsor:&nbsp\; Lucky Dog Promo<br />\n<br />\n&nbsp\;
LOCATION:Anderson Museum of Art 32 W 10th St. Anderson\, IN
UID:e.1371.18849
SEQUENCE:3
DTSTAMP:20260422T090301Z
URL:http://business.madisoncountyalliance.org/events/details/fab-females-active-in-business-18849
END:VEVENT

END:VCALENDAR
