BEGIN:VCALENDAR
VERSION:2.0
PRODID:-//ChamberMaster//Event Calendar 2.0//EN
METHOD:PUBLISH
X-PUBLISHED-TTL:P3D
REFRESH-INTERVAL:P3D
CALSCALE:GREGORIAN
BEGIN:VEVENT
DTSTART:20250404T153000Z
DTEND:20250404T170000Z
X-MICROSOFT-CDO-ALLDAYEVENT:FALSE
SUMMARY:FAB Females Active in Business
DESCRIPTION:SOLD OUT\n\nFAB\n\nFemales Active in Business\n\nApril 4\, 2025\n\nAnderson Museum of Art\n\nKirby Gilliam\n\nPlainsong Music\n\n\n\n \n\n\n Make plans to attend and hear some of the great things happening and how you can get involved.\n\n \nRegister today and bring a friend!\n\n\n\nYour ticket price includes lunch for one and lots of networking!\n\n\n\nA big thank you to our current 2025 Sponsors!\n\nPresenting Sponsor:  Madison County Community Foundation\n\nGold Sponsor:  Home Heroes Plumbing & Heating\n\nGold Sponsor:  Aspire Indiana\n\nGold Sponsor:  City of Alexandria\n\nGold Sponsor:  Women's Wellness\n\nGold Sponsor:  Harrah's Hoosier Park\n\nSilver Sponsor:  JAM Printing\n\nSilver Sponsor:  Meldon HVAC\n\nSilver Sponsor:  Awaken Cosmetics & Aesthetic Wellness Spa and Detour Salon & Style\n\nBronze Sponsor: LuckyDog Promo
X-ALT-DESC;FMTTYPE=text/html:<div style="text-align: center\;"><span style="font-size:22px\;"><span style="color:#FF0000\;"><strong>SOLD OUT</strong></span></span><br />\nFAB<br />\nFemales Active in Business<br />\nApril 4\, 2025<br />\nAnderson Museum of Art<br />\nKirby Gilliam<br />\nPlainsong Music<br />\n<br />\n&nbsp\;</div>\n<br />\n<span background-color:="" font-size:="" style="color: rgb(51\, 51\, 51)\; font-family: sans-serif\, Arial\, Verdana\, " trebuchet="">&nbsp\;Make plans to attend and hear some of the great things happening and how you can get involved.</span>\n\n<div>&nbsp\;</div>\nRegister today and bring a friend!<br />\n<br />\nYour ticket price includes lunch for one and lots of networking!<br />\n<br />\nA big thank you to our current 2025 Sponsors!<br />\nPresenting Sponsor:&nbsp\; Madison County Community Foundation<br />\nGold Sponsor:&nbsp\; Home Heroes Plumbing &amp\; Heating<br />\nGold Sponsor:&nbsp\; Aspire Indiana<br />\nGold Sponsor:&nbsp\; City of Alexandria<br />\nGold Sponsor:&nbsp\; Women&#39\;s Wellness<br />\nGold Sponsor:&nbsp\; Harrah&#39\;s Hoosier Park<br />\nSilver Sponsor:&nbsp\; JAM Printing<br />\nSilver Sponsor:&nbsp\; Meldon HVAC<br />\nSilver Sponsor:&nbsp\; Awaken Cosmetics &amp\; Aesthetic Wellness Spa and Detour Salon &amp\; Style<br />\nBronze Sponsor: LuckyDog Promo<br />\n<br />\n&nbsp\;
LOCATION:Anderson Museum of Art 32 W 10th St. Anderson\, IN
UID:e.1371.18964
SEQUENCE:3
DTSTAMP:20260421T184225Z
URL:http://business.madisoncountyalliance.org/events/details/fab-females-active-in-business-18964
END:VEVENT

END:VCALENDAR
