BEGIN:VCALENDAR
VERSION:2.0
PRODID:-//ChamberMaster//Event Calendar 2.0//EN
METHOD:PUBLISH
X-PUBLISHED-TTL:P3D
REFRESH-INTERVAL:P3D
CALSCALE:GREGORIAN
BEGIN:VEVENT
DTSTART:20251212T163000Z
DTEND:20251212T180000Z
X-MICROSOFT-CDO-ALLDAYEVENT:FALSE
SUMMARY:FAB Females Active in Business
DESCRIPTION:SOLD OUT\n\nFAB\n\nFemales Active in Business\n\nDecember 12\, 2025\n\nAnderson Museum of Art\n\nChristmas Conversations\n\nA conversation with the Executive Directors of\n\nCASA\n\nOutfitters\, Inc.\n\nOperation Love\n\n\n\nPlease bring an unwrapped toy\, socks or underwear.  These items will be dispersed among the three organizations to help those in need this holiday season.\n\n\n\n \n\n\n Make plans to attend and hear some of the great things happening and how you can get involved.\n\n \nRegister today and bring a friend!\n\n\n\nYour ticket price includes lunch for one and lots of networking!\n\n\n\nA big thank you to our current 2025 Sponsors!\n\nPresenting Sponsor:  Madison County Community Foundation\n\nGold Sponsor:  Home Heroes Plumbing & Heating\n\nGold Sponsor:  Aspire Indiana\n\nGold Sponsor:  City of Alexandria\n\nGold Sponsor:  Women's Wellness\n\nGold Sponsor:  Harrah's Hoosier Park\n\nSilver Sponsor:  JAM Printing\n\nSilver Sponsor:  Meldon HVAC\n\nSilver Sponsor:  Awaken Cosmetics & Aesthetic Wellness Spa and Detour Salon & Style\n\nBronze Sponsor: LuckyDog Promo
X-ALT-DESC;FMTTYPE=text/html:<div style="text-align: center\;"><span style="font-size:20px\;"><span style="color:#FF0000\;">SOLD OUT</span></span><br />\nFAB<br />\nFemales Active in Business<br />\nDecember 12\, 2025<br />\nAnderson Museum of Art<br />\nChristmas Conversations<br />\nA conversation with the Executive Directors of<br />\nCASA<br />\nOutfitters\, Inc.<br />\nOperation Love<br />\n<br />\n<span style="font-size:24px\;"><strong>Please bring an unwrapped toy\, socks or underwear.&nbsp\; These items will be dispersed among the three organizations to help those in need this holiday season.</strong></span><br />\n<br />\n&nbsp\;</div>\n<br />\n<span background-color:="" font-size:="" style="color: rgb(51\, 51\, 51)\; font-family: sans-serif\, Arial\, Verdana\, " trebuchet="">&nbsp\;Make plans to attend and hear some of the great things happening and how you can get involved.</span>\n\n<div>&nbsp\;</div>\nRegister today and bring a friend!<br />\n<br />\nYour ticket price includes lunch for one and lots of networking!<br />\n<br />\nA big thank you to our current 2025 Sponsors!<br />\nPresenting Sponsor:&nbsp\; Madison County Community Foundation<br />\nGold Sponsor:&nbsp\; Home Heroes Plumbing &amp\; Heating<br />\nGold Sponsor:&nbsp\; Aspire Indiana<br />\nGold Sponsor:&nbsp\; City of Alexandria<br />\nGold Sponsor:&nbsp\; Women&#39\;s Wellness<br />\nGold Sponsor:&nbsp\; Harrah&#39\;s Hoosier Park<br />\nSilver Sponsor:&nbsp\; JAM Printing<br />\nSilver Sponsor:&nbsp\; Meldon HVAC<br />\nSilver Sponsor:&nbsp\; Awaken Cosmetics &amp\; Aesthetic Wellness Spa and Detour Salon &amp\; Style<br />\nBronze Sponsor: LuckyDog Promo<br />\n<br />\n&nbsp\;
LOCATION:Anderson Museum of Art 32 W 10th St. Anderson\, IN
UID:e.1371.19152
SEQUENCE:3
DTSTAMP:20260421T065958Z
URL:http://business.madisoncountyalliance.org/events/details/fab-females-active-in-business-19152
END:VEVENT

END:VCALENDAR
