BEGIN:VCALENDAR
VERSION:2.0
PRODID:-//ChamberMaster//Event Calendar 2.0//EN
METHOD:PUBLISH
X-PUBLISHED-TTL:P3D
REFRESH-INTERVAL:P3D
CALSCALE:GREGORIAN
BEGIN:VEVENT
DTSTART:20230329T230000Z
DTEND:20230330T000000Z
X-MICROSOFT-CDO-ALLDAYEVENT:FALSE
SUMMARY:Fairytales on Ice featuring Beauty and the Beast
DESCRIPTION:Fairytales On Ice takes classic fairytales and spins them with upbeat modern music\, theatrical storylines\, special effects\, and the live sport of figure skating. You'll see champion ice skaters\, cirque performers\, and live singers\, as they bring fairytales to life.
X-ALT-DESC;FMTTYPE=text/html:Fairytales On Ice takes classic fairytales and spins them with upbeat modern music\, theatrical storylines\, special effects\, and the live sport of figure skating. You&rsquo\;ll see champion ice skaters\, cirque performers\, and live singers\, as they bring fairytales to life.
LOCATION:The Paramount Theatre
UID:e.1371.12295
SEQUENCE:3
DTSTAMP:20260423T070613Z
URL:http://business.madisoncountyalliance.org/events/details/fairytales-on-ice-featuring-beauty-and-the-beast-12295
END:VEVENT

END:VCALENDAR
