BEGIN:VCALENDAR
VERSION:2.0
PRODID:-//ChamberMaster//Event Calendar 2.0//EN
METHOD:PUBLISH
X-PUBLISHED-TTL:P3D
REFRESH-INTERVAL:P3D
CALSCALE:GREGORIAN
BEGIN:VEVENT
DTSTART:20230717T130000Z
DTEND:20230721T160000Z
X-MICROSOFT-CDO-ALLDAYEVENT:FALSE
SUMMARY:Fantasy Summer Camp
DESCRIPTION:Taught by Lacey Dilly: Students will explore a variety of different fantasy-inspired art from Dali collages and Monster Inc. paper mache monsters to mythological Chimera drawings and Jim Henson-inspired puppets. Grades 1st-6th
X-ALT-DESC;FMTTYPE=text/html:Taught by Lacey Dilly: Students will explore a variety of different fantasy-inspired art from Dali collages and Monster Inc. paper mache monsters to mythological Chimera drawings and Jim Henson-inspired puppets. Grades 1st-6th
LOCATION:32 West 10th Street Anderson\, IN 46016
UID:e.1371.12716
SEQUENCE:3
DTSTAMP:20260423T004950Z
URL:http://business.madisoncountyalliance.org/events/details/fantasy-summer-camp-12716
END:VEVENT

END:VCALENDAR
