BEGIN:VCALENDAR
VERSION:2.0
PRODID:-//ChamberMaster//Event Calendar 2.0//EN
METHOD:PUBLISH
X-PUBLISHED-TTL:P3D
REFRESH-INTERVAL:P3D
CALSCALE:GREGORIAN
BEGIN:VEVENT
DTSTART;VALUE=DATE:20240822
DTEND;VALUE=DATE:20240930
TRANSP:TRANSPARENT
X-MICROSOFT-CDO-ALLDAYEVENT:TRUE
SUMMARY:Figures of Speech Exhibit
DESCRIPTION:We invite you to the Anderson Museum of Art's 13th-annual Figures of Speech competitive exhibition. The artist will turn a classic figure of speech into an interesting work of art.
X-ALT-DESC;FMTTYPE=text/html:We invite you to the Anderson Museum of Art&#39\;s 13th-annual Figures of Speech competitive exhibition. The artist will turn a classic figure of speech into an interesting work of art.
LOCATION:Anderson Museum of Art
UID:e.1371.18901
SEQUENCE:3
DTSTAMP:20260422T041511Z
URL:http://business.madisoncountyalliance.org/events/details/figures-of-speech-exhibit-18901
END:VEVENT

END:VCALENDAR
