BEGIN:VCALENDAR
VERSION:2.0
PRODID:-//ChamberMaster//Event Calendar 2.0//EN
METHOD:PUBLISH
X-PUBLISHED-TTL:P3D
REFRESH-INTERVAL:P3D
CALSCALE:GREGORIAN
BEGIN:VEVENT
DTSTART:20230908T210000Z
DTEND:20230908T230000Z
X-MICROSOFT-CDO-ALLDAYEVENT:FALSE
SUMMARY:Figures of Speech Opening
DESCRIPTION:Anderson\, IN\, May 27\, 2022: One of Anderson Museum of Art's most beloved exhibitions\, the 11th annual Figures of Speech\, will return with an evening opening from 5-7 pm on September 8\, 2022. Figures of Speech\, which runs through October 23\, 2022\, includes works from more than 30 artists from across the Midwest. This year's judge is Holly Sims\, Assistant Professor of Visual Communication Design at Anderson University. Holly has selected the best of the show\, 1st\, 2nd\, 3rd\, and several honorable mention awards. Each will be acknowledged during the opening reception awards at 6:30 pm.
X-ALT-DESC;FMTTYPE=text/html:Anderson\, IN\, May 27\, 2022: One of Anderson Museum of Art&rsquo\;s most beloved exhibitions\, the 11th annual Figures of Speech\, will return with an evening opening from 5-7 pm on September 8\, 2022. Figures of Speech\, which runs through October 23\, 2022\, includes works from more than 30 artists from across the Midwest. This year&rsquo\;s judge is Holly Sims\, Assistant Professor of Visual Communication Design at Anderson University. Holly has selected the best of the show\, 1st\, 2nd\, 3rd\, and several honorable mention awards. Each will be acknowledged during the opening reception awards at 6:30 pm.
LOCATION:Anderson Museum of Art 32 West 10th Street Anderson\, IN 46016
UID:e.1371.12718
SEQUENCE:3
DTSTAMP:20260422T220043Z
URL:http://business.madisoncountyalliance.org/events/details/figures-of-speech-opening-12718
END:VEVENT

END:VCALENDAR
