BEGIN:VCALENDAR
VERSION:2.0
PRODID:-//ChamberMaster//Event Calendar 2.0//EN
METHOD:PUBLISH
X-PUBLISHED-TTL:P3D
REFRESH-INTERVAL:P3D
CALSCALE:GREGORIAN
BEGIN:VEVENT
DTSTART:20250801T220000Z
DTEND:20250802T000000Z
X-MICROSOFT-CDO-ALLDAYEVENT:FALSE
SUMMARY:Figures of Speech Opening Exhibition
DESCRIPTION:Join us on August 1\, from 6-8pm\, for the opening of our annual exhibition\, Figures of Speech. This exhibition celebrates the powerful intersection of language and visual art. Enjoy art\, light refreshments\, a children's activity\, and our A.R.T.S vendor market downstairs. Make sure to stay around the awards ceremony at 6:30pm! We cannot wait to see you there! Admission is FREE!
X-ALT-DESC;FMTTYPE=text/html:Join us on August 1\, from 6-8pm\, for the opening of our annual exhibition\, Figures of Speech. This exhibition celebrates the powerful intersection of language and visual art. Enjoy art\, light refreshments\, a children&#39\;s activity\, and our A.R.T.S vendor market downstairs. Make sure to stay around the awards ceremony at 6:30pm! We cannot wait to see you there! Admission is FREE!
LOCATION:Anderson Museum of Art
UID:e.1371.19132
SEQUENCE:3
DTSTAMP:20260421T123609Z
URL:http://business.madisoncountyalliance.org/events/details/figures-of-speech-opening-exhibition-19132
END:VEVENT

END:VCALENDAR
