BEGIN:VCALENDAR
VERSION:2.0
PRODID:-//ChamberMaster//Event Calendar 2.0//EN
METHOD:PUBLISH
X-PUBLISHED-TTL:P3D
REFRESH-INTERVAL:P3D
CALSCALE:GREGORIAN
BEGIN:VEVENT
DTSTART:20230707T170000Z
DTEND:20230802T190000Z
X-MICROSOFT-CDO-ALLDAYEVENT:FALSE
SUMMARY:Figures of Speech Show
DESCRIPTION:Art Show Exhibition at the Anderson Museum of Art\, showcasing pieces by various local artists.
X-ALT-DESC;FMTTYPE=text/html:Art Show Exhibition at the Anderson Museum of Art\, showcasing pieces by various local artists.
LOCATION:Anderson Museum of Art
UID:e.1371.18323
SEQUENCE:3
DTSTAMP:20260422T232728Z
URL:http://business.madisoncountyalliance.org/events/details/figures-of-speech-show-18323
END:VEVENT

END:VCALENDAR
