BEGIN:VCALENDAR
VERSION:2.0
PRODID:-//ChamberMaster//Event Calendar 2.0//EN
METHOD:PUBLISH
X-PUBLISHED-TTL:P3D
REFRESH-INTERVAL:P3D
CALSCALE:GREGORIAN
BEGIN:VEVENT
DTSTART:20250606T210000Z
DTEND:20250607T000000Z
X-MICROSOFT-CDO-ALLDAYEVENT:FALSE
SUMMARY:First Friday at AMOA!
DESCRIPTION:Join us for an evening of fun\, including the opening night of our new exhibition M lange\, light refreshments\, a children's activity\, and First Friday vendors downstairs! Entry fee is FREE!
X-ALT-DESC;FMTTYPE=text/html:Join us for an evening of fun\, including the opening night of our new exhibition M&eacute\;lange\, light refreshments\, a children&rsquo\;s activity\, and First Friday vendors downstairs! Entry fee is FREE!
LOCATION:32 WEST 10TH STREET ANDERSON\, IN 46016
UID:e.1371.19114
SEQUENCE:3
DTSTAMP:20260421T153220Z
URL:http://business.madisoncountyalliance.org/events/details/first-friday-at-amoa-19114
END:VEVENT

END:VCALENDAR
