BEGIN:VCALENDAR
VERSION:2.0
PRODID:-//ChamberMaster//Event Calendar 2.0//EN
METHOD:PUBLISH
X-PUBLISHED-TTL:P3D
REFRESH-INTERVAL:P3D
CALSCALE:GREGORIAN
BEGIN:VEVENT
DTSTART:20250404T210000Z
DTEND:20250405T000000Z
X-MICROSOFT-CDO-ALLDAYEVENT:FALSE
SUMMARY:First Friday/ In Focus Opening Exhibition
DESCRIPTION:Join us for an exciting First Friday at AMOA on April 4 from 5 PM to 8 PM! We're incredibly excited to celebrate the opening of our 44th Annual In Focus Exhibition\, where you'll have the chance to meet the talented artists behind the work. Be sure to stick around for the Awards Ceremony at 6:30 PM! In addition to the exhibition\, enjoy a variety of local vendors\, light refreshments\, and a children's activity. It's an evening full of fun and creativity and we cannot wait to see you there!
X-ALT-DESC;FMTTYPE=text/html:Join us for an exciting First Friday at AMOA on April 4 from 5 PM to 8 PM! We&#39\;re incredibly excited to celebrate the opening of our 44th Annual In Focus Exhibition\, where you&#39\;ll have the chance to meet the talented artists behind the work. Be sure to stick around for the Awards Ceremony at 6:30 PM! In addition to the exhibition\, enjoy a variety of local vendors\, light refreshments\, and a children&#39\;s activity. It&#39\;s an evening full of fun and creativity and we cannot wait to see you there!
LOCATION:32 Hst W 10th St\, Anderson\, IN 46016
UID:e.1371.19100
SEQUENCE:3
DTSTAMP:20260421T182547Z
URL:http://business.madisoncountyalliance.org/events/details/first-friday-in-focus-opening-exhibition-19100
END:VEVENT

END:VCALENDAR
