BEGIN:VCALENDAR
VERSION:2.0
PRODID:-//ChamberMaster//Event Calendar 2.0//EN
METHOD:PUBLISH
X-PUBLISHED-TTL:P3D
REFRESH-INTERVAL:P3D
CALSCALE:GREGORIAN
BEGIN:VEVENT
DTSTART:20260103T000000Z
DTEND:20260103T023000Z
X-MICROSOFT-CDO-ALLDAYEVENT:FALSE
SUMMARY:First Friday Live Music: Ciara Dawn Haskett
DESCRIPTION:Experience the soulful sounds of local artist Ciara Dawn Haskett! Join us for an unforgettable First Friday evening of music and good vibes. Don't miss out!
X-ALT-DESC;FMTTYPE=text/html:Experience the soulful sounds of local artist Ciara Dawn Haskett! Join us for an unforgettable First Friday evening of music and good vibes. Don&rsquo\;t miss out!
LOCATION:Creatures of Habit Brewing Co.
UID:e.1371.19165
SEQUENCE:3
DTSTAMP:20260421T053408Z
URL:http://business.madisoncountyalliance.org/events/details/first-friday-live-music-ciara-dawn-haskett-19165
END:VEVENT

END:VCALENDAR
