BEGIN:VCALENDAR
VERSION:2.0
PRODID:-//ChamberMaster//Event Calendar 2.0//EN
METHOD:PUBLISH
X-PUBLISHED-TTL:P3D
REFRESH-INTERVAL:P3D
CALSCALE:GREGORIAN
BEGIN:VEVENT
DTSTART:20250502T210000Z
DTEND:20250502T220000Z
X-MICROSOFT-CDO-ALLDAYEVENT:FALSE
SUMMARY:Gathering of Veterans/Military
DESCRIPTION:Gathering of the Veterans is facilitated veteran-led sessions that offer a safe and supportive environment where participants can connect\, share experiences\, and build camaraderie. Topics include Post Trauma Resilience and Navigating Transitions.
X-ALT-DESC;FMTTYPE=text/html:Gathering of the Veterans is facilitated veteran-led sessions that offer a safe and supportive environment where participants can connect\, share experiences\, and build camaraderie. Topics include Post Trauma Resilience and Navigating Transitions.
LOCATION:Cerenity Recovery Cafe 19 W. 10th Street
UID:e.1371.19108
SEQUENCE:3
DTSTAMP:20260421T182730Z
URL:http://business.madisoncountyalliance.org/events/details/gathering-of-veterans-military-19108
END:VEVENT

END:VCALENDAR
