BEGIN:VCALENDAR
VERSION:2.0
PRODID:-//ChamberMaster//Event Calendar 2.0//EN
METHOD:PUBLISH
X-PUBLISHED-TTL:P3D
REFRESH-INTERVAL:P3D
CALSCALE:GREGORIAN
BEGIN:VEVENT
DTSTART:20241012T160000Z
DTEND:20241012T220000Z
X-MICROSOFT-CDO-ALLDAYEVENT:FALSE
SUMMARY:Hispanic Heritage Celebration
DESCRIPTION:Hola amigos! Get ready to spice up your day at our sizzling Hispanic Heritage Celebration! Let's paint the town red (and green\, and yellow\, and every color of the rainbow) as we celebrate the rich tapestry of Hispanic culture! Bring your friends\, your family\, and your best dance moves. This is one fiesta you won't want to miss! Remember: Life's a party\, especially when it's a Hispanic Heritage party! Nos vemos pronto! (See you soon!)
X-ALT-DESC;FMTTYPE=text/html:Hola amigos! Get ready to spice up your day at our sizzling Hispanic Heritage Celebration! Let&#39\;s paint the town red (and green\, and yellow\, and every color of the rainbow) as we celebrate the rich tapestry of Hispanic culture! Bring your friends\, your family\, and your best dance moves. This is one fiesta you won&#39\;t want to miss! Remember: Life&#39\;s a party\, especially when it&#39\;s a Hispanic Heritage party! Nos vemos pronto! (See you soon!)
LOCATION:InerG Impact 2629 Lindberg Rd Anderson\, IN. 46012
UID:e.1371.18925
SEQUENCE:3
DTSTAMP:20260422T025023Z
URL:http://business.madisoncountyalliance.org/events/details/hispanic-heritage-celebration-18925
END:VEVENT

END:VCALENDAR
