BEGIN:VCALENDAR
VERSION:2.0
PRODID:-//ChamberMaster//Event Calendar 2.0//EN
METHOD:PUBLISH
X-PUBLISHED-TTL:P3D
REFRESH-INTERVAL:P3D
CALSCALE:GREGORIAN
BEGIN:VEVENT
DTSTART:20231203T160000Z
DTEND:20231203T210000Z
X-MICROSOFT-CDO-ALLDAYEVENT:FALSE
SUMMARY:Holiday Home Tours
DESCRIPTION:The Home Tours are part of AMOA's winter celebration that includes a new exhibition\, Winterfest\, and a special kids camp\, Brushes and Beats\, with our friends at Plainsong Music. The Holiday Home Tours will be held on December 3 from 11 am to 4 pm. Enjoy snacks and drinks at each location as you explore beautiful holiday d cor. Tickets can be purchased online\, at the museum\, or at the homes the day of.
X-ALT-DESC;FMTTYPE=text/html:The Home Tours are part of AMOA&#39\;s winter celebration that includes a new exhibition\, Winterfest\, and a special kids camp\, Brushes and Beats\, with our friends at Plainsong Music. The Holiday Home Tours will be held on December 3 from 11 am to 4 pm. Enjoy snacks and drinks at each location as you explore beautiful holiday d&eacute\;cor. Tickets can be purchased online\, at the museum\, or at the homes the day of.
LOCATION:The Anderson Museum of Art
UID:e.1371.18373
SEQUENCE:3
DTSTAMP:20260422T185914Z
URL:http://business.madisoncountyalliance.org/events/details/holiday-home-tours-18373
END:VEVENT

END:VCALENDAR
