BEGIN:VCALENDAR
VERSION:2.0
PRODID:-//ChamberMaster//Event Calendar 2.0//EN
METHOD:PUBLISH
X-PUBLISHED-TTL:P3D
REFRESH-INTERVAL:P3D
CALSCALE:GREGORIAN
BEGIN:VEVENT
DTSTART:20241214T150000Z
DTEND:20241214T210000Z
X-MICROSOFT-CDO-ALLDAYEVENT:FALSE
SUMMARY:Holiday Market
DESCRIPTION:The Mercy Table Holiday Market is a family friendly Christmas event. There is free admission and free parking. Join us for an unforgettable day featuring 50 talented crafters and vendors\, DJ Endy\, Santa\, and Music for the Jennerations. The Kid Zone will be brimming with festive fun for the little ones. There's so much to explore. Come and be part of the holiday cheer!
X-ALT-DESC;FMTTYPE=text/html:The Mercy Table Holiday Market is a family friendly Christmas event. There is free admission and free parking. Join us for an unforgettable day featuring 50 talented crafters and vendors\, DJ Endy\, Santa\, and Music for the Jennerations. The Kid Zone will be brimming with festive fun for the little ones. There&rsquo\;s so much to explore. Come and be part of the holiday cheer!
LOCATION:Mercy Road Church Anderson 2625 Lindberg Rd Anderson\, IN 46012
UID:e.1371.18931
SEQUENCE:3
DTSTAMP:20260422T014615Z
URL:http://business.madisoncountyalliance.org/events/details/holiday-market-18931
END:VEVENT

END:VCALENDAR
