BEGIN:VCALENDAR
VERSION:2.0
PRODID:-//ChamberMaster//Event Calendar 2.0//EN
METHOD:PUBLISH
X-PUBLISHED-TTL:P3D
REFRESH-INTERVAL:P3D
CALSCALE:GREGORIAN
BEGIN:VEVENT
DTSTART;VALUE=DATE:20251213
DTEND;VALUE=DATE:20251214
TRANSP:TRANSPARENT
X-MICROSOFT-CDO-ALLDAYEVENT:TRUE
SUMMARY:Hop Butcher Beer Event
DESCRIPTION:We're celebrating the incredible Chicago brewery\, Hop Butcher For the World with a line-up of some of their finest beers! Whether you want to sample a curated flight or enjoy a full glass of your favorite\, this is the perfect opportunity to experience the best from Hop Butcher. Come early and meet Biz from Craft Concierge\, who will be handing out some cool glassware and stickers while supplies last! Bring your friends and raise a glass with us! Cheers! ??? #HopButcher #CraftBeerEvent #ChicagoBeer #BeerLovers
X-ALT-DESC;FMTTYPE=text/html:We&rsquo\;re celebrating the incredible Chicago brewery\, Hop Butcher For the World with a line-up of some of their finest beers! Whether you want to sample a curated flight or enjoy a full glass of your favorite\, this is the perfect opportunity to experience the best from Hop Butcher. Come early and meet Biz from Craft Concierge\, who will be handing out some cool glassware and stickers while supplies last! Bring your friends and raise a glass with us! Cheers! ??? #HopButcher #CraftBeerEvent #ChicagoBeer #BeerLovers
LOCATION:Creatures of Habit Brewing Co. 1031 Meridian St. Anderson\, IN 46016
UID:e.1371.19160
SEQUENCE:3
DTSTAMP:20260421T070010Z
URL:http://business.madisoncountyalliance.org/events/details/hop-butcher-beer-event-19160
END:VEVENT

END:VCALENDAR
