BEGIN:VCALENDAR
VERSION:2.0
PRODID:-//ChamberMaster//Event Calendar 2.0//EN
METHOD:PUBLISH
X-PUBLISHED-TTL:P3D
REFRESH-INTERVAL:P3D
CALSCALE:GREGORIAN
BEGIN:VEVENT
DTSTART:20260110T170000Z
DTEND:20260111T030000Z
X-MICROSOFT-CDO-ALLDAYEVENT:FALSE
SUMMARY:HopLore Beer Event
DESCRIPTION:Join us Saturday\, January 10th for a special beer event featuring a curated flight of exceptional brews from Hoplore Brewing Co.! Discover unique flavors and styles that showcase the artistry of craft beer. Come early to meet Stefan\, one of Hoplore's talented brewers\, and get insights into the brewing process and the inspirations behind each beer. Don't miss out on this opportunity to enjoy great company and fantastic brews! Cheers!
X-ALT-DESC;FMTTYPE=text/html:Join us Saturday\, January 10th for a special beer event featuring a curated flight of exceptional brews from Hoplore Brewing Co.! Discover unique flavors and styles that showcase the artistry of craft beer. Come early to meet Stefan\, one of Hoplore&#39\;s talented brewers\, and get insights into the brewing process and the inspirations behind each beer. Don&rsquo\;t miss out on this opportunity to enjoy great company and fantastic brews! Cheers!
LOCATION:Creatures of Habit Brewing Co. 1031 Meridian St. Anderson\, IN 46016
UID:e.1371.19166
SEQUENCE:3
DTSTAMP:20260421T053317Z
URL:http://business.madisoncountyalliance.org/events/details/hoplore-beer-event-19166
END:VEVENT

END:VCALENDAR
