BEGIN:VCALENDAR
VERSION:2.0
PRODID:-//ChamberMaster//Event Calendar 2.0//EN
METHOD:PUBLISH
X-PUBLISHED-TTL:P3D
REFRESH-INTERVAL:P3D
CALSCALE:GREGORIAN
BEGIN:VEVENT
DTSTART:20230626T130000Z
DTEND:20230630T160000Z
X-MICROSOFT-CDO-ALLDAYEVENT:FALSE
SUMMARY:Inspiration Summer Camp
DESCRIPTION:Taught by Samson Hunckler: Students will learn about the work of local artist Ricardo Flores\, whose work will be on display during this time! Students will create their own unique work as well as a community mural. Grades 1st-6th
X-ALT-DESC;FMTTYPE=text/html:Taught by Samson Hunckler: Students will learn about the work of local artist Ricardo Flores\, whose work will be on display during this time! Students will create their own unique work as well as a community mural. Grades 1st-6th
LOCATION:32 West 10th Street Anderson\, IN 46016
UID:e.1371.12714
SEQUENCE:3
DTSTAMP:20260423T021818Z
URL:http://business.madisoncountyalliance.org/events/details/inspiration-summer-camp-12714
END:VEVENT

END:VCALENDAR
