BEGIN:VCALENDAR
VERSION:2.0
PRODID:-//ChamberMaster//Event Calendar 2.0//EN
METHOD:PUBLISH
X-PUBLISHED-TTL:P3D
REFRESH-INTERVAL:P3D
CALSCALE:GREGORIAN
BEGIN:VEVENT
DTSTART:20230721T150000Z
DTEND:20230721T170000Z
X-MICROSOFT-CDO-ALLDAYEVENT:FALSE
SUMMARY:Ivy Tech Career Link 2023 Office Olympics
DESCRIPTION:Ivy Tech Career Link\n\n2023 Office Olympics\n\nJuly 21st 11:00 a.m. - 1:00 p.m.\n\nIvy Tech Community Collee\n\n815 E. 60th Street\, Anderson
X-ALT-DESC;FMTTYPE=text/html:<div style="text-align: center\;"><span style="font-size:20px\;"><strong>Ivy Tech Career Link<br />\n2023 Office Olympics<br />\nJuly 21st 11:00 a.m. - 1:00 p.m.<br />\nIvy Tech Community Collee<br />\n815 E. 60th Street\, Anderson&nbsp\;&nbsp\;&nbsp\;&nbsp\;</strong></span></div>\n
LOCATION:Ivy Tech Community College 815 E. 60th Street Anderson\, IN
UID:e.1371.18302
SEQUENCE:3
DTSTAMP:20260423T005039Z
URL:http://business.madisoncountyalliance.org/events/details/ivy-tech-career-link-2023-office-olympics-18302
END:VEVENT

END:VCALENDAR
