BEGIN:VCALENDAR
VERSION:2.0
PRODID:-//ChamberMaster//Event Calendar 2.0//EN
METHOD:PUBLISH
X-PUBLISHED-TTL:P3D
REFRESH-INTERVAL:P3D
CALSCALE:GREGORIAN
BEGIN:VEVENT
DTSTART:20251206T000000Z
DTEND:20251206T023000Z
X-MICROSOFT-CDO-ALLDAYEVENT:FALSE
SUMMARY:Live Music: Ciara Dawn Haskett
DESCRIPTION:Join us on First Friday for an evening of live music with Ciara Dawn Haskett! Music kicks off at 7 PM. Come enjoy great tunes\, good company\, and a fun Friday night!
X-ALT-DESC;FMTTYPE=text/html:Join us on First Friday for an evening of live music with Ciara Dawn Haskett! Music kicks off at 7 PM. Come enjoy great tunes\, good company\, and a fun Friday night!
LOCATION:Creatures of Habit Brewing Co. 1031 Meridian St Anderson\, IN 46012
UID:e.1371.19161
SEQUENCE:3
DTSTAMP:20260421T065922Z
URL:http://business.madisoncountyalliance.org/events/details/live-music-ciara-dawn-haskett-19161
END:VEVENT

END:VCALENDAR
