BEGIN:VCALENDAR
VERSION:2.0
PRODID:-//ChamberMaster//Event Calendar 2.0//EN
METHOD:PUBLISH
X-PUBLISHED-TTL:P3D
REFRESH-INTERVAL:P3D
CALSCALE:GREGORIAN
BEGIN:VEVENT
DTSTART:20260105T223000Z
DTEND:20260106T010000Z
X-MICROSOFT-CDO-ALLDAYEVENT:FALSE
SUMMARY:LIVE MUSIC: Hunter Wainscott
DESCRIPTION:Creatures of Habit Brewing Co. is pleased to announce a special live music event featuring talented local singer-songwriter Hunter Wainscott. The performance will take place on Monday\, January 5th\, starting at 5:30 PM. Join us for an evening of soulful melodies and heartfelt lyrics as Hunter Wainscott takes the stage. This event promises to be a delightful night of entertainment\, great company\, delicious food\, and exceptional craft beers. Bring your friends and enjoy the vibrant atmosphere at Creatures of Habit Brewing Co. For more details\, follow us on social media or visit our website.
X-ALT-DESC;FMTTYPE=text/html:Creatures of Habit Brewing Co. is pleased to announce a special live music event featuring talented local singer-songwriter Hunter Wainscott. The performance will take place on Monday\, January 5th\, starting at 5:30 PM. Join us for an evening of soulful melodies and heartfelt lyrics as Hunter Wainscott takes the stage. This event promises to be a delightful night of entertainment\, great company\, delicious food\, and exceptional craft beers. Bring your friends and enjoy the vibrant atmosphere at Creatures of Habit Brewing Co. For more details\, follow us on social media or visit our website.
LOCATION:Creatures of Habit Brewing Co. 1031 Meridian St. Anderson\, IN 46016
UID:e.1371.19159
SEQUENCE:3
DTSTAMP:20260421T053533Z
URL:http://business.madisoncountyalliance.org/events/details/live-music-hunter-wainscott-19159
END:VEVENT

END:VCALENDAR
