BEGIN:VCALENDAR
VERSION:2.0
PRODID:-//ChamberMaster//Event Calendar 2.0//EN
METHOD:PUBLISH
X-PUBLISHED-TTL:P3D
REFRESH-INTERVAL:P3D
CALSCALE:GREGORIAN
BEGIN:VEVENT
DTSTART:20260202T230000Z
DTEND:20260203T013000Z
X-MICROSOFT-CDO-ALLDAYEVENT:FALSE
SUMMARY:Live Music: Jeff Hubbard
DESCRIPTION:Join us for a night of live music on Monday\, February 2nd\, at 6 PM featuring local Hoosier artist Jeff Hubbard! Enjoy an evening of soulful tunes\, great food\, great beer and even better company! See you there!
X-ALT-DESC;FMTTYPE=text/html:Join us for a night of live music on Monday\, February 2nd\, at 6 PM featuring local Hoosier artist Jeff Hubbard! Enjoy an evening of soulful tunes\, great food\, great beer and even better company! See you there!
LOCATION:Creatures of Habit Brewery 1031 Meridian St. Downtown Anderson
UID:e.1371.19176
SEQUENCE:3
DTSTAMP:20260421T040652Z
URL:http://business.madisoncountyalliance.org/events/details/live-music-jeff-hubbard-19176
END:VEVENT

END:VCALENDAR
