BEGIN:VCALENDAR
VERSION:2.0
PRODID:-//ChamberMaster//Event Calendar 2.0//EN
METHOD:PUBLISH
X-PUBLISHED-TTL:P3D
REFRESH-INTERVAL:P3D
CALSCALE:GREGORIAN
BEGIN:VEVENT
DTSTART:20251201T223000Z
DTEND:20251202T010000Z
X-MICROSOFT-CDO-ALLDAYEVENT:FALSE
SUMMARY:Live Music: JT Sifuentes
DESCRIPTION:Join us for an evening of live music with local artist JT Sifuentes on Monday\, December 1st at 5:30 PM! Enjoy a relaxing and soulful performance filled with great tunes and good vibes. Whether you're unwinding after work or kicking off your week\, this is the perfect way to spend your Monday evening. Don't miss out hope to see you there!
X-ALT-DESC;FMTTYPE=text/html:Join us for an evening of live music with local artist JT Sifuentes on Monday\, December 1st at 5:30 PM! Enjoy a relaxing and soulful performance filled with great tunes and good vibes. Whether you&#39\;re unwinding after work or kicking off your week\, this is the perfect way to spend your Monday evening. Don&rsquo\;t miss out&mdash\;hope to see you there!&nbsp\;
LOCATION:1031 Meridian St\, Anderson\, IN 46012
UID:e.1371.19158
SEQUENCE:3
DTSTAMP:20260421T065957Z
URL:http://business.madisoncountyalliance.org/events/details/live-music-jt-sifuentes-19158
END:VEVENT

END:VCALENDAR
