BEGIN:VCALENDAR
VERSION:2.0
PRODID:-//ChamberMaster//Event Calendar 2.0//EN
METHOD:PUBLISH
X-PUBLISHED-TTL:P3D
REFRESH-INTERVAL:P3D
CALSCALE:GREGORIAN
BEGIN:VEVENT
DTSTART:20260504T230000Z
DTEND:20260505T010000Z
X-MICROSOFT-CDO-ALLDAYEVENT:FALSE
SUMMARY:Live Music with Tam & Friends
DESCRIPTION:Join us on May 4th for a very special night of live music featuring our very own Tam & Friends! ?? You already know Tam is amazing\, but come see exactly why we say there's no end to her talent. The music kicks off at 7:00 PM. Grab a drink\, settle in with some great company\, and let's show one of our favorites some love!
X-ALT-DESC;FMTTYPE=text/html:Join us on May 4th for a very special night of live music featuring our very own Tam &amp\; Friends! ?? You already know Tam is amazing\, but come see exactly why we say there&#39\;s no end to her talent. The music kicks off at 7:00 PM. Grab a drink\, settle in with some great company\, and let&#39\;s show one of our favorites some love!
LOCATION:Creatures of Habit 1031 Meridian St Downtown Anderson
UID:e.1371.19206
SEQUENCE:3
DTSTAMP:20260420T203203Z
URL:http://business.madisoncountyalliance.org/events/details/live-music-with-tam-friends-19206
END:VEVENT

END:VCALENDAR
