BEGIN:VCALENDAR
VERSION:2.0
PRODID:-//ChamberMaster//Event Calendar 2.0//EN
METHOD:PUBLISH
X-PUBLISHED-TTL:P3D
REFRESH-INTERVAL:P3D
CALSCALE:GREGORIAN
BEGIN:VEVENT
DTSTART:20241012T180000Z
DTEND:20241012T200000Z
X-MICROSOFT-CDO-ALLDAYEVENT:FALSE
SUMMARY:Macrame Wall Hanging Workshop
DESCRIPTION:Learn how to create a macrame wall decor with Lisa Dunaway. Knotted cotton cording and wooden dowel are all provided. This class is appropriate for ages 18 and up.
X-ALT-DESC;FMTTYPE=text/html:Learn how to create a macrame wall decor with Lisa Dunaway. Knotted cotton cording and wooden dowel are all provided. This class is appropriate for ages 18 and up.
LOCATION:Anderson Museum of Art
UID:e.1371.18933
SEQUENCE:3
DTSTAMP:20260422T024135Z
URL:http://business.madisoncountyalliance.org/events/details/macrame-wall-hanging-workshop-18933
END:VEVENT

END:VCALENDAR
