BEGIN:VCALENDAR
VERSION:2.0
PRODID:-//ChamberMaster//Event Calendar 2.0//EN
METHOD:PUBLISH
X-PUBLISHED-TTL:P3D
REFRESH-INTERVAL:P3D
CALSCALE:GREGORIAN
BEGIN:VEVENT
DTSTART:20250927T150000Z
DTEND:20250927T190000Z
X-MICROSOFT-CDO-ALLDAYEVENT:FALSE
SUMMARY:Madison County Medical Mission at Home Event
DESCRIPTION:Save the Date\n\nAscension St Vincent Anderson\n\nMadison County Medical Mission at Home Event\n\nSeptember 27\, 2025\n\n11:00 a.m. - 3:00 p.m.
X-ALT-DESC;FMTTYPE=text/html:Save the Date<br />\nAscension St Vincent Anderson<br />\nMadison&nbsp\;County Medical Mission at Home Event<br />\nSeptember 27\, 2025<br />\n11:00 a.m. - 3:00 p.m.<br />\n&nbsp\;
LOCATION:Ascension St. Vincent Anderson 2015 Jackson Street Anderson\, IN 46016
UID:e.1371.19117
SEQUENCE:3
DTSTAMP:20260421T123658Z
URL:http://business.madisoncountyalliance.org/events/details/madison-county-medical-mission-at-home-event-19117
END:VEVENT

END:VCALENDAR
