BEGIN:VCALENDAR
VERSION:2.0
PRODID:-//ChamberMaster//Event Calendar 2.0//EN
METHOD:PUBLISH
X-PUBLISHED-TTL:P3D
REFRESH-INTERVAL:P3D
CALSCALE:GREGORIAN
BEGIN:VEVENT
DTSTART:20240912T140000Z
DTEND:20240912T160000Z
X-MICROSOFT-CDO-ALLDAYEVENT:FALSE
SUMMARY:Major Community Announcement - InerG Impact
DESCRIPTION:Funds flow into our community\, promising to spark innovation and unite visionaries. What doors will this open for aspiring entrepreneurs? The countdown to revelation begins!\n\n\n\nJoin Us for a Milestone Moment! Hosted in Partnership with Indiana For The Bold & Madison County Chamber of Commerce.  Be part of InerG Impact's exciting journey as we unveil a game-changing development for our community. This exclusive event offers:   A taste of success: Enjoy refreshments   Connect and grow: Prime networking opportunities with local innovators and leaders   Make history: Witness firsthand a pivotal moment in InerG Impact's story.  Don't miss this chance to be at the forefront of local innovation and community growth. Your presence could open doors to unexpected opportunities!\n\n\n\nSpace is limited\, so reserve your spot now. Together\, let's shape the future of our community! Located right behind Mercy Road Church (2625 Lindberg Rd. Anderson\, IN\, 46012)
X-ALT-DESC;FMTTYPE=text/html:Funds flow into our community\, promising to spark innovation and unite visionaries. What doors will this open for aspiring entrepreneurs? The countdown to revelation begins!<br />\n<br />\nJoin Us for a Milestone Moment! Hosted in Partnership with Indiana For The Bold &amp\; Madison County Chamber of Commerce.&nbsp\; Be part of InerG Impact&#39\;s exciting journey as we unveil a game-changing development for our community. This exclusive event offers: &bull\; A taste of success: Enjoy refreshments &bull\; Connect and grow: Prime networking opportunities with local innovators and leaders &bull\; Make history: Witness firsthand a pivotal moment in InerG Impact&#39\;s story.&nbsp\; Don&#39\;t miss this chance to be at the forefront of local innovation and community growth. Your presence could open doors to unexpected opportunities!<br />\n<br />\nSpace is limited\, so reserve your spot now. Together\, let&#39\;s shape the future of our community! Located right behind Mercy Road Church (2625 Lindberg Rd. Anderson\, IN\, 46012)
LOCATION:2629 Lindberg Rd Anderson\, IN 46012
UID:e.1371.18930
SEQUENCE:3
DTSTAMP:20260422T055236Z
URL:http://business.madisoncountyalliance.org/events/details/major-community-announcement-inerg-impact-18930
END:VEVENT

END:VCALENDAR
