BEGIN:VCALENDAR
VERSION:2.0
PRODID:-//ChamberMaster//Event Calendar 2.0//EN
METHOD:PUBLISH
X-PUBLISHED-TTL:P3D
REFRESH-INTERVAL:P3D
CALSCALE:GREGORIAN
BEGIN:VEVENT
DTSTART:20230916T233000Z
DTEND:20230917T013000Z
X-MICROSOFT-CDO-ALLDAYEVENT:FALSE
SUMMARY:Mark Lowry
DESCRIPTION:Mark Lowry is loved around the world in the realm of gospel music. The innately entertaining communicator makes audiences laugh\, cry\, and think. His lyrics to "Mary Did You Know?" resulted in one of the most loved modern Christmas songs of this century. He has spent more than 20 collective years as the baritone singer for the Grammy award-winning Gaither Vocal Band. His gift for communicating profound truths through music and storytelling keeps audiences of all ages on the edge of their seats.
X-ALT-DESC;FMTTYPE=text/html:Mark Lowry is loved around the world in the realm of gospel music. The innately entertaining communicator makes audiences laugh\, cry\, and think. His lyrics to &ldquo\;Mary Did You Know?&rdquo\; resulted in one of the most loved modern Christmas songs of this century. He has spent more than 20 collective years as the baritone singer for the Grammy award-winning Gaither Vocal Band. His gift for communicating profound truths through music and storytelling keeps audiences of all ages on the edge of their seats.
LOCATION:The Paramount Theatre
UID:e.1371.12296
SEQUENCE:3
DTSTAMP:20260422T220036Z
URL:http://business.madisoncountyalliance.org/events/details/mark-lowry-09-16-2023-12296
END:VEVENT

END:VCALENDAR
