BEGIN:VCALENDAR
VERSION:2.0
PRODID:-//ChamberMaster//Event Calendar 2.0//EN
METHOD:PUBLISH
X-PUBLISHED-TTL:P3D
REFRESH-INTERVAL:P3D
CALSCALE:GREGORIAN
BEGIN:VEVENT
DTSTART:20240518T160000Z
DTEND:20240518T190000Z
X-MICROSOFT-CDO-ALLDAYEVENT:FALSE
SUMMARY:May Open House - Joyner Homes
DESCRIPTION:Join us for an Open House at our new Model Home in the Williams Run neighborhood of Greenfield\, IN\, on Saturday\, May 18th\, and Sunday\, May 19th from 12:00 PM - 3:00 PM each day!\n\n \n\nLocation: 1581 Tupelo Drive | Greenfield\, IN 46140\n\n \n\nBring a friend to explore our beautiful model home. The first 5 guests on each day can enjoy creating their own unique flower arrangements with blooms from Penny's Florist!\n\n \n\nCome tour this Joyner Home and meet with one of our New Home Specialists to learn more about building a custom home with us! Joyner Homes can build on your lot\, plus we have lots in 8 neighborhoods where we can build your dream home!\n\n\n\nWhere We Build: joynerhomesonline.com/where-we-build
X-ALT-DESC;FMTTYPE=text/html:<div>Join us for an <strong>Open House</strong> at our new Model Home in the Williams Run neighborhood of Greenfield\, IN\, on <strong>Saturday\, May 18th\, and Sunday\, May 19th from 12:00 PM - 3:00 PM</strong> each day!<br />\n&nbsp\;</div>\n\n<div><strong>Location:</strong> 1581 Tupelo Drive | Greenfield\, IN 46140<br />\n&nbsp\;</div>\n\n<div>Bring a friend to explore our beautiful model home. The first 5 guests on each day can enjoy creating their own unique flower arrangements with blooms from Penny&rsquo\;s Florist!<br />\n&nbsp\;</div>\n\n<div>Come tour this Joyner Home and meet with one of our New Home Specialists to learn more about building a custom home with us! Joyner Homes can build on your lot\, plus we have lots in 8 neighborhoods where we can build your dream home!<br />\n<br />\n<strong>Where We Build:&nbsp\;</strong><a href="https://joynerhomesonline.com/where-we-build">joynerhomesonline.com/where-we-build</a></div>\n
LOCATION:1581 Tupelo Drive Greenfield\, IN 46140
UID:e.1371.18874
SEQUENCE:3
DTSTAMP:20260422T103153Z
URL:http://business.madisoncountyalliance.org/events/details/may-open-house-joyner-homes-18874
END:VEVENT

END:VCALENDAR
