BEGIN:VCALENDAR
VERSION:2.0
PRODID:-//ChamberMaster//Event Calendar 2.0//EN
METHOD:PUBLISH
X-PUBLISHED-TTL:P3D
REFRESH-INTERVAL:P3D
CALSCALE:GREGORIAN
BEGIN:VEVENT
DTSTART:20250515T213000Z
DTEND:20250515T223000Z
X-MICROSOFT-CDO-ALLDAYEVENT:FALSE
SUMMARY:MCC Walk & Talk
DESCRIPTION:POSTPONED DUE TO INCLEMENT WEATHER\n\nMCC Walk & Talk\n\nThursday\, May 15th 5:30 - 6:30 p.m.\n\nMounds State Park\n\n4306 Mounds Rd.\, Anderson\n\n\n\nCome walk with us and explore some of the fantastic trails that Mounds State Park has to offer.  \n\n\n\nThis is the first event of four that we will be hosting this summer to keep ourselves active and enjoy networking along the way!\n\n\n\nPark entry fees will be covered\, so no excuses!!  Come walk with the Chamber team and let's enjoy our local natural resources!
X-ALT-DESC;FMTTYPE=text/html:<span style="font-size:28px\;"><span style="background-color:#FF0000\;">POSTPONED DUE TO INCLEMENT WEATHER</span></span><br />\nMCC Walk &amp\; Talk<br />\nThursday\, May 15th 5:30 - 6:30 p.m.<br />\nMounds State Park<br />\n4306 Mounds Rd.\, Anderson<br />\n<br />\nCome walk with us and explore some of the fantastic trails that Mounds State Park has to offer.&nbsp\;&nbsp\;<br />\n<br />\nThis is the first event of four that we will be hosting this summer to keep ourselves active and enjoy networking along the way!<br />\n<br />\nPark entry fees will be covered\, so no excuses!!&nbsp\; Come walk with the Chamber team and let&#39\;s enjoy our local natural resources!
LOCATION:Mounds State Park 4306 Mounds Rd. Anderson\, IN 46017
UID:e.1371.19104
SEQUENCE:3
DTSTAMP:20260421T170411Z
URL:http://business.madisoncountyalliance.org/events/details/mcc-walk-talk-19104
END:VEVENT

END:VCALENDAR
