BEGIN:VCALENDAR
VERSION:2.0
PRODID:-//ChamberMaster//Event Calendar 2.0//EN
METHOD:PUBLISH
X-PUBLISHED-TTL:P3D
REFRESH-INTERVAL:P3D
CALSCALE:GREGORIAN
BEGIN:VEVENT
DTSTART:20250610T213000Z
DTEND:20250610T223000Z
X-MICROSOFT-CDO-ALLDAYEVENT:FALSE
SUMMARY:MCC Walk & Talk
DESCRIPTION:MCC Walk & Talk\n\nTuesday\, June 10th  5:30 - 6:30 p.m.\n\nMounds State Park\n\n4306 Mounds Rd.\, Anderson\n\n\n\nIn case of inclement weather\, you will be notified by email if event will be cancelled.\n\n\n\nCome walk with us and explore some of the fantastic trails that Mounds State Park has to offer.  \n\n\n\nThis is the first event of four that we will be hosting this summer to keep ourselves active and enjoy networking along the way!\n\n\n\nPark entry fees will be covered\, so no excuses!!  Upon arrival at the park gate let them know you are there for the Chamber event.  Come walk with the Chamber team and let's enjoy our local natural resources!
X-ALT-DESC;FMTTYPE=text/html:<br />\nMCC Walk &amp\; Talk<br />\nTuesday\, June 10th&nbsp\; 5:30 - 6:30 p.m.<br />\nMounds State Park<br />\n4306 Mounds Rd.\, Anderson<br />\n<br />\n<em><strong>In case of inclement weather\, you will be notified by email if event will be cancelled.</strong></em><br />\n<br />\nCome walk with us and explore some of the fantastic trails that Mounds State Park has to offer.&nbsp\;&nbsp\;<br />\n<br />\nThis is the first event of four that we will be hosting this summer to keep ourselves active and enjoy networking along the way!<br />\n<br />\n<strong>Park entry fees will be covered\, so no excuses!!</strong>&nbsp\; Upon arrival at the park gate let them know you are there for the Chamber event.&nbsp\; Come walk with the Chamber team and let&#39\;s enjoy our local natural resources!
LOCATION:Mounds State Park 4306 Mounds Rd. Anderson\, IN 46017
UID:e.1371.19123
SEQUENCE:3
DTSTAMP:20260421T165656Z
URL:http://business.madisoncountyalliance.org/events/details/mcc-walk-talk-19123
END:VEVENT

END:VCALENDAR
