BEGIN:VCALENDAR
VERSION:2.0
PRODID:-//ChamberMaster//Event Calendar 2.0//EN
METHOD:PUBLISH
X-PUBLISHED-TTL:P3D
REFRESH-INTERVAL:P3D
CALSCALE:GREGORIAN
BEGIN:VEVENT
DTSTART:20250722T213000Z
DTEND:20250722T223000Z
X-MICROSOFT-CDO-ALLDAYEVENT:FALSE
SUMMARY:MCC Walk & Talk
DESCRIPTION:MCC Walk & Talk\n\nTuesday\, July 22nd  5:30 - 6:30 p.m.\n\nFalls Park\n\n299 Falls Park Drive\, Pendleton\, IN\n\n\n\nCome walk with us and explore some of the fantastic trails that Pendleton Falls Park has to offer.  Meet us at the Falls Park Gazebo.\n\n\n\nThis is the second event of three that we will be hosting this summer to keep ourselves active and enjoy networking along the way!\n\n\n\nCome walk with the Chamber team and let's enjoy our local natural resources!
X-ALT-DESC;FMTTYPE=text/html:<br />\nMCC Walk &amp\; Talk<br />\nTuesday\, July 22nd&nbsp\; 5:30 - 6:30 p.m.<br />\nFalls Park<br />\n299 Falls Park Drive\, Pendleton\, IN<br />\n<br />\nCome walk with us and explore some of the fantastic trails that Pendleton Falls Park has to offer.&nbsp\; Meet us at the Falls Park Gazebo.<br />\n<br />\nThis is the second event of three that we will be hosting this summer to keep ourselves active and enjoy networking along the way!<br />\n<br />\nCome walk with the Chamber team and let&#39\;s enjoy our local natural resources!
LOCATION:Falls Park 299 Falls Park Drive Pendleton\, IN 46064
UID:e.1371.19124
SEQUENCE:3
DTSTAMP:20260421T151010Z
URL:http://business.madisoncountyalliance.org/events/details/mcc-walk-talk-19124
END:VEVENT

END:VCALENDAR
