BEGIN:VCALENDAR
VERSION:2.0
PRODID:-//ChamberMaster//Event Calendar 2.0//EN
METHOD:PUBLISH
X-PUBLISHED-TTL:P3D
REFRESH-INTERVAL:P3D
CALSCALE:GREGORIAN
BEGIN:VEVENT
DTSTART:20250812T213000Z
DTEND:20250812T223000Z
X-MICROSOFT-CDO-ALLDAYEVENT:FALSE
SUMMARY:MCC Walk & Talk
DESCRIPTION:Cancelled \n\nMCC Walk & Talk\n\nTuesday\, August 12th  5:30 - 6:30 p.m.\n\nBeulah Park\n\n503 N. Park Avenue\, Alexandria\n\n\n\nCome walk with us and explore some of the fantastic trails that Pendleton Falls Park has to offer.  \n\n\n\nThis is the second event of three that are hosting this summer to keep ourselves active and enjoy networking along the way!\n\n\n\nCome walk with the Chamber team and let's enjoy our local natural resources!
X-ALT-DESC;FMTTYPE=text/html:<span style="font-size:26px\;"><span style="color:#FF0000\;"><strong>Cancelled&nbsp\;</strong></span></span><br />\nMCC Walk &amp\; Talk<br />\nTuesday\, August 12th&nbsp\; 5:30 - 6:30 p.m.<br />\nBeulah Park<br />\n503 N. Park Avenue\, Alexandria<br />\n<br />\nCome walk with us and explore some of the fantastic trails that Pendleton Falls Park has to offer.&nbsp\;&nbsp\;<br />\n<br />\nThis is the second event of three that are hosting this summer to keep ourselves active and enjoy networking along the way!<br />\n<br />\nCome walk with the Chamber team and let&#39\;s enjoy our local natural resources!
LOCATION:Beulah Park 503 N. Park Avenue Alexandria\, IN 46001
UID:e.1371.19125
SEQUENCE:3
DTSTAMP:20260421T123849Z
URL:http://business.madisoncountyalliance.org/events/details/mcc-walk-talk-19125
END:VEVENT

END:VCALENDAR
