BEGIN:VCALENDAR
VERSION:2.0
PRODID:-//ChamberMaster//Event Calendar 2.0//EN
METHOD:PUBLISH
X-PUBLISHED-TTL:P3D
REFRESH-INTERVAL:P3D
CALSCALE:GREGORIAN
BEGIN:VEVENT
DTSTART:20260429T200000Z
DTEND:20260429T220000Z
X-MICROSOFT-CDO-ALLDAYEVENT:FALSE
SUMMARY:Meet & Greet Reception for Marissa Skaggs
DESCRIPTION:Open House Meet & Greet Reception for Marissa Skaggs\n\nPresident & CEO Madison County Alliance\n\nWednesday\, April 29th 4:00 - 6:00 p.m.\n\nFlagship Enterprise \n\n2701 Enterprise Drive\, Anderson
X-ALT-DESC;FMTTYPE=text/html:<div style="text-align: center\;"><span style="font-size:18px\;"><strong>Open House Meet &amp\; Greet Reception for Marissa Skaggs</strong></span><br />\n<span style="font-size:14px\;">President &amp\; CEO Madison County Alliance<br />\nWednesday\, April 29th 4:00 - 6:00 p.m.</span><br />\n<span style="font-size:12px\;">Flagship Enterprise&nbsp\;<br />\n2701 Enterprise Drive\, Anderson</span></div>\n
LOCATION:Flagship Enterprise 2701 Enterprise Drive Anderson
UID:e.1371.19207
SEQUENCE:3
DTSTAMP:20260420T204711Z
URL:http://business.madisoncountyalliance.org/events/details/meet-greet-reception-for-marissa-skaggs-19207
END:VEVENT

END:VCALENDAR
