BEGIN:VCALENDAR
VERSION:2.0
PRODID:-//ChamberMaster//Event Calendar 2.0//EN
METHOD:PUBLISH
X-PUBLISHED-TTL:P3D
REFRESH-INTERVAL:P3D
CALSCALE:GREGORIAN
BEGIN:VEVENT
DTSTART:20250620T210000Z
DTEND:20250620T230000Z
X-MICROSOFT-CDO-ALLDAYEVENT:FALSE
SUMMARY:Members Only Night
DESCRIPTION:You're Invited: Members-Only Night at AMOA! Friday\, June 20 | 5 7 PM Be among the first to experience our exciting new project exclusively unveiled for members of the Anderson Museum of Art! This special evening promises art\, community\, and a few delightful surprises. Bonus for Early Birds: The first 50 guests will receive a limited-edition treat from Ruby's Caf  and Bakery created just for this event! Not yet a member? Join now at andersonart.org/membership and be part of this unforgettable night. No advance registration needed just bring your membership and your sense of curiosity. We can't wait to celebrate with you!
X-ALT-DESC;FMTTYPE=text/html:You&#39\;re Invited: Members-Only Night at AMOA! Friday\, June 20 | 5&ndash\;7 PM Be among the first to experience our exciting new project&mdash\;exclusively unveiled for members of the Anderson Museum of Art! This special evening promises art\, community\, and a few delightful surprises. Bonus for Early Birds: The first 50 guests will receive a limited-edition treat from Ruby&rsquo\;s Caf&eacute\; and Bakery&mdash\;created just for this event! Not yet a member? Join now at andersonart.org/membership and be part of this unforgettable night. No advance registration needed&mdash\;just bring your membership and your sense of curiosity. We can&rsquo\;t wait to celebrate with you!
LOCATION:32 WEST 10TH STREET ANDERSON\, IN 46016
UID:e.1371.19115
SEQUENCE:3
DTSTAMP:20260421T153337Z
URL:http://business.madisoncountyalliance.org/events/details/members-only-night-19115
END:VEVENT

END:VCALENDAR
