BEGIN:VCALENDAR
VERSION:2.0
PRODID:-//ChamberMaster//Event Calendar 2.0//EN
METHOD:PUBLISH
X-PUBLISHED-TTL:P3D
REFRESH-INTERVAL:P3D
CALSCALE:GREGORIAN
BEGIN:VEVENT
DTSTART:20251220T150000Z
DTEND:20251220T170000Z
X-MICROSOFT-CDO-ALLDAYEVENT:FALSE
SUMMARY:Monthly Brunch
DESCRIPTION:Creatures of Habit Brewing Co. invites you to join us for a mouthwatering brunch on December 20th\, featuring a delectable menu inspired by the delightful flavors of white chocolate and cranberries! Don't miss this opportunity to indulge in a flavorful brunch while enjoying the warm\, inviting atmosphere at Creatures of Habit Brewing Co. Gather your friends and family and make plans to join us for this festive event!
X-ALT-DESC;FMTTYPE=text/html:Creatures of Habit Brewing Co. invites you to join us for a mouthwatering brunch on December 20th\, featuring a delectable menu inspired by the delightful flavors of white chocolate and cranberries! Don&rsquo\;t miss this opportunity to indulge in a flavorful brunch while enjoying the warm\, inviting atmosphere at Creatures of Habit Brewing Co. Gather your friends and family and make plans to join us for this festive event!
LOCATION:Creatures of Habit Brewing Co. 1031 Meridian St Anderson\, IN 46012
UID:e.1371.19162
SEQUENCE:3
DTSTAMP:20260421T065922Z
URL:http://business.madisoncountyalliance.org/events/details/monthly-brunch-19162
END:VEVENT

END:VCALENDAR
