BEGIN:VCALENDAR
VERSION:2.0
PRODID:-//ChamberMaster//Event Calendar 2.0//EN
METHOD:PUBLISH
X-PUBLISHED-TTL:P3D
REFRESH-INTERVAL:P3D
CALSCALE:GREGORIAN
BEGIN:VEVENT
DTSTART:20241102T141500Z
DTEND:20241123T171500Z
X-MICROSOFT-CDO-ALLDAYEVENT:FALSE
SUMMARY:Multi-Media Drawing & Painting Studio
DESCRIPTION:Experience watercolor\, pastel\, acrylic painting\, and more in a fun and interactive studio atmosphere. Explore your artistic interests by making a small series of paintings\, and learn new techniques with helpful demonstrations useful for experienced artists and beginners alike.
X-ALT-DESC;FMTTYPE=text/html:Experience watercolor\, pastel\, acrylic painting\, and more in a fun and interactive studio atmosphere. Explore your artistic interests by making a small series of paintings\, and learn new techniques with helpful demonstrations useful for experienced artists and beginners alike.
LOCATION:Anderson Museum of Art
UID:e.1371.18938
SEQUENCE:3
DTSTAMP:20260422T014417Z
URL:http://business.madisoncountyalliance.org/events/details/multi-media-drawing-painting-studio-18938
END:VEVENT

END:VCALENDAR
