BEGIN:VCALENDAR
VERSION:2.0
PRODID:-//ChamberMaster//Event Calendar 2.0//EN
METHOD:PUBLISH
X-PUBLISHED-TTL:P3D
REFRESH-INTERVAL:P3D
CALSCALE:GREGORIAN
BEGIN:VEVENT
DTSTART;VALUE=DATE:20240126
DTEND;VALUE=DATE:20240218
TRANSP:TRANSPARENT
X-MICROSOFT-CDO-ALLDAYEVENT:TRUE
SUMMARY:Mystery at the Museum II
DESCRIPTION:Unlock the secrets of a storied past and delve into the mysterious world of art and history. This old Carnegie Library hides more than just art! Will you unravel the mysteries\, decode the clues\, and expel the specter\, or will his cunning tricks keep you captivated forever? Discover art\, history\, and mystery like never before.
X-ALT-DESC;FMTTYPE=text/html:Unlock the secrets of a storied past and delve into the mysterious world of art and history. This old Carnegie Library hides more than just art! Will you unravel the mysteries\, decode the clues\, and expel the specter\, or will his cunning tricks keep you captivated forever? Discover art\, history\, and mystery like never before.
LOCATION:Anderson Museum of Art 32 Hst W 10th St\, Anderson\, IN 46016
UID:e.1371.18850
SEQUENCE:3
DTSTAMP:20260422T144803Z
URL:http://business.madisoncountyalliance.org/events/details/mystery-at-the-museum-ii-18850
END:VEVENT

END:VCALENDAR
