BEGIN:VCALENDAR
VERSION:2.0
PRODID:-//ChamberMaster//Event Calendar 2.0//EN
METHOD:PUBLISH
X-PUBLISHED-TTL:P3D
REFRESH-INTERVAL:P3D
CALSCALE:GREGORIAN
BEGIN:VEVENT
DTSTART:20250606T223000Z
DTEND:20250607T000000Z
X-MICROSOFT-CDO-ALLDAYEVENT:FALSE
SUMMARY:Mélange Opening Exhibition
DESCRIPTION:Join Us for the Opening Night of M lange Featuring the Art of Shannon Arnstein June 6 | 6:30 8:00 PM Celebrate the vibrant launch of our M lange exhibition with an evening of art\, community\, and creativity. Discover the stunning quilted works of contemporary textile artist Shannon Arnstein\, whose pieces interlace color\, texture\, and storytelling in captivating ways. Entry fee is FREE The exhibition will be open from June 6 to July 19
X-ALT-DESC;FMTTYPE=text/html:Join Us for the Opening Night of M&eacute\;lange Featuring the Art of Shannon Arnstein June 6 | 6:30&ndash\;8:00 PM Celebrate the vibrant launch of our M&eacute\;lange exhibition with an evening of art\, community\, and creativity. Discover the stunning quilted works of contemporary textile artist Shannon Arnstein\, whose pieces interlace color\, texture\, and storytelling in captivating ways. Entry fee is FREE The exhibition will be open from June 6 to July 19
LOCATION:Anderson Museum of Art
UID:e.1371.19113
SEQUENCE:3
DTSTAMP:20260421T170616Z
URL:http://business.madisoncountyalliance.org/events/details/m&#233;lange-opening-exhibition-19113
END:VEVENT

END:VCALENDAR
