BEGIN:VCALENDAR
VERSION:2.0
PRODID:-//ChamberMaster//Event Calendar 2.0//EN
METHOD:PUBLISH
X-PUBLISHED-TTL:P3D
REFRESH-INTERVAL:P3D
CALSCALE:GREGORIAN
BEGIN:VEVENT
DTSTART:20230908T210000Z
DTEND:20230909T000000Z
X-MICROSOFT-CDO-ALLDAYEVENT:FALSE
SUMMARY:Naked Heart Yoga Grand Opening with Ribbon Cutting
DESCRIPTION:Please join us as we celebrate the grand opening of Naked Heart Yoga. We look forward to meeting you and sharing our vision\, our practice and of course some food and beverages!
X-ALT-DESC;FMTTYPE=text/html:Please join us as we celebrate the grand opening of Naked Heart Yoga. We look forward to meeting you and sharing our vision\, our practice and of course some food and beverages!
LOCATION:1102 Central Avenue\, Anderson Indiana
UID:e.1371.18330
SEQUENCE:3
DTSTAMP:20260422T220458Z
URL:http://business.madisoncountyalliance.org/events/details/naked-heart-yoga-grand-opening-with-ribbon-cutting-18330
END:VEVENT

END:VCALENDAR
