BEGIN:VCALENDAR
VERSION:2.0
PRODID:-//ChamberMaster//Event Calendar 2.0//EN
METHOD:PUBLISH
X-PUBLISHED-TTL:P3D
REFRESH-INTERVAL:P3D
CALSCALE:GREGORIAN
BEGIN:VEVENT
DTSTART:20260119T223000Z
DTEND:20260120T040000Z
X-MICROSOFT-CDO-ALLDAYEVENT:FALSE
SUMMARY:National Championship Watch Party & TUCK THIS! Beer Release
DESCRIPTION:?? Game Day Alert! ?? Join us on Monday\, 1/19\, for the National Championship Game! ?? Come cheer on the home team with us! Enjoy our special game day deals: ?? $2 select beers ?? 8 wings for just $8 PLUS--- We will be releasing our next batch of Tuck This! NEIPA!!!?? Doors open at 5:30 PM and we'll be cheering until the final whistle! Don't miss out on the fun! ??
X-ALT-DESC;FMTTYPE=text/html:?? Game Day Alert! ?? Join us on Monday\, 1/19\, for the National Championship Game! ?? Come cheer on the home team with us! Enjoy our special game day deals: ?? $2 select beers ?? 8 wings for just $8 PLUS--- We will be releasing our next batch of Tuck This! NEIPA!!!?? Doors open at 5:30 PM and we&#39\;ll be cheering until the final whistle! Don&#39\;t miss out on the fun! ??
LOCATION:Creatures of Habit Brewing Co. 1031 Meridian St. Downtown Anderson
UID:e.1371.19169
SEQUENCE:3
DTSTAMP:20260421T053603Z
URL:http://business.madisoncountyalliance.org/events/details/national-championship-watch-party-tuck-this-beer-release-19169
END:VEVENT

END:VCALENDAR
