BEGIN:VCALENDAR
VERSION:2.0
PRODID:-//ChamberMaster//Event Calendar 2.0//EN
METHOD:PUBLISH
X-PUBLISHED-TTL:P3D
REFRESH-INTERVAL:P3D
CALSCALE:GREGORIAN
BEGIN:VEVENT
DTSTART:20230929T230000Z
DTEND:20230930T020000Z
X-MICROSOFT-CDO-ALLDAYEVENT:FALSE
SUMMARY:National Silent Movie Day Phantom of the Opera
DESCRIPTION:Have you ever wished you could take a step back into another time? YOU CAN! Friday\, September 29\, 2023 at 7PM The Paramount Theatre is celebrating NATIONAL SILENT FILM DAY. We will be screening the Classic Lon Chaney Phantom of the Opera. Making it twice the event Ken Double of the Atlanta Fox Theatre\, WRTV\, Purdue Basketball and the former 2nd turn announcer of the INDY 500 will be accompanying the film on the Historic Paramount Page Organ. For most of us this will be a once in a lifetime event! Tickets are available at The Paramount Box Office now until the day of the show. Tickets are ONLY $10. The event is being sponsored by the Madison County Bicentennial and Community Hospital Anderson. YOU DON'T WANT TO MISS IT
X-ALT-DESC;FMTTYPE=text/html:Have you ever wished you could take a step back into another time? YOU CAN! Friday\, September 29\, 2023 at 7PM The Paramount Theatre is celebrating NATIONAL SILENT FILM DAY. We will be screening the Classic Lon Chaney Phantom of the Opera. Making it twice the event Ken Double of the Atlanta Fox Theatre\, WRTV\, Purdue Basketball and the former 2nd turn announcer of the INDY 500 will be accompanying the film on the Historic Paramount Page Organ. For most of us this will be a once in a lifetime event! Tickets are available at The Paramount Box Office now until the day of the show. Tickets are ONLY $10. The event is being sponsored by the Madison County Bicentennial and Community Hospital Anderson. YOU DON&#39\;T WANT TO MISS IT
LOCATION:Historic Paramount Theatre
UID:e.1371.18377
SEQUENCE:3
DTSTAMP:20260422T220213Z
URL:http://business.madisoncountyalliance.org/events/details/national-silent-movie-day-phantom-of-the-opera-18377
END:VEVENT

END:VCALENDAR
