BEGIN:VCALENDAR
VERSION:2.0
PRODID:-//ChamberMaster//Event Calendar 2.0//EN
METHOD:PUBLISH
X-PUBLISHED-TTL:P3D
REFRESH-INTERVAL:P3D
CALSCALE:GREGORIAN
BEGIN:VEVENT
DTSTART:20250424T223000Z
DTEND:20250425T000000Z
X-MICROSOFT-CDO-ALLDAYEVENT:FALSE
SUMMARY:Navigating the Journey
DESCRIPTION:In honor of Autism Awareness Month\, you're invited to a special evening of connection\, learning\, and creativity! Join us April 24 from 6:30 8 PM for "Navigating the Journey"   a free community event for parents\, grandparents\, and caregivers of children with autism. Guest speaker Marya Patrice Sherron   author\, advocate\, and founder of KI Productions' Neurodivergent Collection   will share insightful tips on parenting children with autism and building supportive networks with fellow caregivers. After the talk\, stick around for a hands-on art activity led by our talented Art Education Outreach Specialist\, Nick Martin!
X-ALT-DESC;FMTTYPE=text/html:In honor of Autism Awareness Month\, you&#39\;re invited to a special evening of connection\, learning\, and creativity! Join us April 24 from 6:30&ndash\;8 PM for &quot\;Navigating the Journey&quot\; &mdash\; a free community event for parents\, grandparents\, and caregivers of children with autism. Guest speaker Marya Patrice Sherron &mdash\; author\, advocate\, and founder of KI Productions&rsquo\; Neurodivergent Collection &mdash\; will share insightful tips on parenting children with autism and building supportive networks with fellow caregivers. After the talk\, stick around for a hands-on art activity led by our talented Art Education Outreach Specialist\, Nick Martin!
LOCATION:Anderson Museum of Art
UID:e.1371.19103
SEQUENCE:3
DTSTAMP:20260421T182545Z
URL:http://business.madisoncountyalliance.org/events/details/navigating-the-journey-19103
END:VEVENT

END:VCALENDAR
