BEGIN:VCALENDAR
VERSION:2.0
PRODID:-//ChamberMaster//Event Calendar 2.0//EN
METHOD:PUBLISH
X-PUBLISHED-TTL:P3D
REFRESH-INTERVAL:P3D
CALSCALE:GREGORIAN
BEGIN:VEVENT
DTSTART:20241020T180000Z
DTEND:20241104T203000Z
X-MICROSOFT-CDO-ALLDAYEVENT:FALSE
SUMMARY:Needle Felting Three-Part Series
DESCRIPTION:Learn three different types of needle felting techniques to make three projects with Nelly\, who will take you through 2-D needle felting\, 3D felting\, and then embellished wearables in a series of classes that will give you the skills to create a variety of pieces of fiber art. Beginners are welcome and all tools and materials are included. Ages 13 and up!
X-ALT-DESC;FMTTYPE=text/html:Learn three different types of needle felting techniques to make three projects with Nelly\, who will take you through 2-D needle felting\, 3D felting\, and then embellished wearables in a series of classes that will give you the skills to create a variety of pieces of fiber art. Beginners are welcome and all tools and materials are included. Ages 13 and up!
LOCATION:Anderson Museum of Art
UID:e.1371.18935
SEQUENCE:3
DTSTAMP:20260422T014442Z
URL:http://business.madisoncountyalliance.org/events/details/needle-felting-three-part-series-18935
END:VEVENT

END:VCALENDAR
